BEGIN:VCALENDAR
VERSION:2.0
PRODID:-//101.5 HANK FM - ECPv5.6.0//NONSGML v1.0//EN
CALSCALE:GREGORIAN
METHOD:PUBLISH
X-WR-CALNAME:101.5 HANK FM
X-ORIGINAL-URL:https://www.crankthehankseattle.com
X-WR-CALDESC:Events for 101.5 HANK FM
BEGIN:VTIMEZONE
TZID:America/Los_Angeles
BEGIN:DAYLIGHT
TZOFFSETFROM:-0800
TZOFFSETTO:-0700
TZNAME:PDT
DTSTART:20260308T100000
END:DAYLIGHT
BEGIN:STANDARD
TZOFFSETFROM:-0700
TZOFFSETTO:-0800
TZNAME:PST
DTSTART:20261101T090000
END:STANDARD
END:VTIMEZONE
BEGIN:VEVENT
DTSTART;TZID=America/Los_Angeles:20260426T073000
DTEND;TZID=America/Los_Angeles:20260426T120000
DTSTAMP:20260424T064521
CREATED:20260417T164418Z
LAST-MODIFIED:20260417T164418Z
UID:98598-1777188600-1777204800@www.crankthehankseattle.com
SUMMARY:All in for Autism Run/Walk
DESCRIPTION:Join 101.5 HANK FM for the All in for Autism race to support kids & families with Autism Spectrum Disorder (ASD) on Sunday April 26th at Bellevue Downtown Park. \n  \n \n 
URL:https://www.crankthehankseattle.com/event/all-in-for-autism-run-walk/
CATEGORIES:Charity Event,Event,HANK FM Community Events,Lotus Community,Station Event
ATTACH;FMTTYPE=image/png:https://dehayf5mhw1h7.cloudfront.net/wp-content/uploads/sites/2128/2026/04/15221855/hank-sea-slider-all-in-for-autism-2026.png
END:VEVENT
BEGIN:VEVENT
DTSTART;TZID=America/Los_Angeles:20260509T090000
DTEND;TZID=America/Los_Angeles:20260509T120000
DTSTAMP:20260424T064521
CREATED:20260421T181415Z
LAST-MODIFIED:20260421T181415Z
UID:98677-1778317200-1778328000@www.crankthehankseattle.com
SUMMARY:Battlefield Addiction: Run for Recovery
DESCRIPTION:Run For Recovery 2026 Run May 9th at Roegner Park in Auburn. Walk. Heal. Together for Recovery. Join 101.5 HANK FM for a 5K event to celebrate recovery\, honor those we’ve lost\, and raise funds for treatment and sober living scholarships. Let’s make a difference together! Learn more and register HERE!
URL:https://www.crankthehankseattle.com/event/battlefield-addiction-run-for-recovery/
CATEGORIES:Charity Event,Event,HANK FM Community Events,Lotus Community,Station Event
ATTACH;FMTTYPE=image/jpeg:https://dehayf5mhw1h7.cloudfront.net/wp-content/uploads/sites/2128/2026/04/21111138/198d392f-9737-47a4-8fe7-214593d79f99-e1776795213258.jpg
END:VEVENT
BEGIN:VEVENT
DTSTART;TZID=America/Los_Angeles:20260626T180000
DTEND;TZID=America/Los_Angeles:20260626T220000
DTSTAMP:20260424T064521
CREATED:20260317T172636Z
LAST-MODIFIED:20260320T172216Z
UID:97726-1782496800-1782511200@www.crankthehankseattle.com
SUMMARY:Rhiannon Giddens Presents: American Tunes
DESCRIPTION:Rhiannon Giddens presents American Tunes! \nOn June 26th\, Giddens is joined by Mary Chapin Carpenter and Hurray for the Riff Raff at the beautiful Chateau Ste. Michelle Amphitheatre. \nTickets on sale March 23rd at 10am\, show starts at 6. \nThis Concert is part of the 2026 Chateau Ste Michelle Summer Concert Series!
URL:https://www.crankthehankseattle.com/event/rhiannon-giddens-live/
LOCATION:Chateau Ste Michelle Amphitheatre\, 14111 NE 145th St\, Woodinville\, WA\, 98072\, United States
CATEGORIES:Concert Calendar
ATTACH;FMTTYPE=image/png:https://dehayf5mhw1h7.cloudfront.net/wp-content/uploads/sites/2128/2026/03/17102530/csm-summer.png
END:VEVENT
BEGIN:VEVENT
DTSTART;TZID=America/Los_Angeles:20260627T180000
DTEND;TZID=America/Los_Angeles:20260627T220000
DTSTAMP:20260424T064521
CREATED:20260317T173000Z
LAST-MODIFIED:20260320T172143Z
UID:97729-1782583200-1782597600@www.crankthehankseattle.com
SUMMARY:Dierks Bentley
DESCRIPTION:Dierks Bentley: Off The Map Tour 2026 \nJoined by Kaitlin Butts and Mountain Grass Unit\, Dierks Bentley plays under the setting sun at the Chateau Ste. Michelle Amphitheatre. \nThis event is part of the Chateau Ste. Michelle’s 2026 Summer Concert Series! \nConcert is June 27th at 6pm\, tickets go on sale March 23rd at 10am.
URL:https://www.crankthehankseattle.com/event/dierks-bentley-live/
LOCATION:Chateau Ste Michelle Amphitheatre\, 14111 NE 145th St\, Woodinville\, WA\, 98072\, United States
CATEGORIES:Concert Calendar
ATTACH;FMTTYPE=image/png:https://dehayf5mhw1h7.cloudfront.net/wp-content/uploads/sites/2128/2026/03/17102530/csm-summer.png
END:VEVENT
BEGIN:VEVENT
DTSTART;VALUE=DATE:20260724
DTEND;VALUE=DATE:20260726
DTSTAMP:20260424T064521
CREATED:20260126T182137Z
LAST-MODIFIED:20260320T172113Z
UID:96867-1784851200-1785023999@www.crankthehankseattle.com
SUMMARY:Chris Stapleton at the Gorge
DESCRIPTION:For TWO DAYS ONLY\, Chris Stapleton makes a stop in our neck of the woods! \nHear your favorite live at the beautiful Gorge Amphitheater\, July 24th and 25th — Tickets are selling fast\, get yours now!
URL:https://www.crankthehankseattle.com/event/chris-stapleton-at-the-gorge/
LOCATION:The Gorge Amphitheatre\, 754 Silica Rd NW\, Quincy\, WA\, 98848\, United States
CATEGORIES:Concert Calendar,HANK FM Concert Calendar
ATTACH;FMTTYPE=image/jpeg:https://dehayf5mhw1h7.cloudfront.net/wp-content/uploads/sites/2128/2026/01/26102058/stapleton.jpg
END:VEVENT
BEGIN:VEVENT
DTSTART;TZID=America/Los_Angeles:20260724T183000
DTEND;TZID=America/Los_Angeles:20260724T223000
DTSTAMP:20260424T064521
CREATED:20260317T173259Z
LAST-MODIFIED:20260320T172059Z
UID:97732-1784917800-1784932200@www.crankthehankseattle.com
SUMMARY:Wynonna Judd & Melissa Etheridge
DESCRIPTION:Catch the “Raised on Radio Tour” at the Chateau Ste. Michelle Amphitheatre \nSee Judd and Etheridge live on July 24th! \nConcert starts at 6:30pm\, tickets go on sale March 23rd at 10am. \nThis event is part of the 2026 Chateau Ste. Michelle Amphitheatre Summer Concert Series.
URL:https://www.crankthehankseattle.com/event/wynonna-judd-melissa-etheridge-live/
LOCATION:Chateau Ste Michelle Amphitheatre\, 14111 NE 145th St\, Woodinville\, WA\, 98072\, United States
CATEGORIES:Concert Calendar
ATTACH;FMTTYPE=image/png:https://dehayf5mhw1h7.cloudfront.net/wp-content/uploads/sites/2128/2026/03/17102530/csm-summer.png
END:VEVENT
BEGIN:VEVENT
DTSTART;VALUE=DATE:20260808
DTEND;VALUE=DATE:20260809
DTSTAMP:20260424T064521
CREATED:20260126T181406Z
LAST-MODIFIED:20260320T172043Z
UID:96863-1786147200-1786233599@www.crankthehankseattle.com
SUMMARY:Luke Bryan at the White River Amphitheatre
DESCRIPTION:Catch Luke Bryan on August 8th during his “Word On The Street” Tour! Don’t miss your chance to see his only Western Washington show. \nSpecial Guests: Drew Baldridge\, Karley Scott Collins\, Shane Profitt & DJ Rock
URL:https://www.crankthehankseattle.com/event/luke-bryan-live/
LOCATION:White River Amphitheatre\, 40601 Auburn Enumclaw Rd SE\, Auburn\, WA\, 98092\, United States
CATEGORIES:Concert Calendar,HANK FM Community Events
ATTACH;FMTTYPE=image/jpeg:https://dehayf5mhw1h7.cloudfront.net/wp-content/uploads/sites/2128/2026/01/26101323/luke-bryan.jpg
END:VEVENT
BEGIN:VEVENT
DTSTART;VALUE=DATE:20260910
DTEND;VALUE=DATE:20260911
DTSTAMP:20260424T064521
CREATED:20260411T135806Z
LAST-MODIFIED:20260411T135806Z
UID:98458-1788998400-1789084799@www.crankthehankseattle.com
SUMMARY:Gretchen Wilson at the WA State Fair
DESCRIPTION:Head to the Washington State Fairgrounds in Puyallup for the “Dancin’ in the Dirt” concert series! \nGretchen Wilson takes the stage September 10th.
URL:https://www.crankthehankseattle.com/event/gretchen-wilson-at-the-wa-state-fair/
LOCATION:Washington State Fair\, 110 9th Ave SW\, Puyallup\, WA\, 98371\, United States
CATEGORIES:Concert Calendar,Event,HANK FM Concert Calendar
ATTACH;FMTTYPE=image/png:https://dehayf5mhw1h7.cloudfront.net/wp-content/uploads/sites/2128/2026/04/11065730/gretchen-wilson.png
END:VEVENT
BEGIN:VEVENT
DTSTART;VALUE=DATE:20260911
DTEND;VALUE=DATE:20260912
DTSTAMP:20260424T064521
CREATED:20260411T140341Z
LAST-MODIFIED:20260411T140341Z
UID:98461-1789084800-1789171199@www.crankthehankseattle.com
SUMMARY:Dylan Marlowe at the WA State Fair
DESCRIPTION:Head to the Washington State Fairgrounds in Puyallup for the “Dancin’ in the Dirt” concert series! \nDylan Marlowe takes the stage September 11th.
URL:https://www.crankthehankseattle.com/event/dylan-marlowe-at-the-wa-state-fair/
LOCATION:Washington State Fair\, 110 9th Ave SW\, Puyallup\, WA\, 98371\, United States
CATEGORIES:Concert Calendar,Event,HANK FM Concert Calendar
ATTACH;FMTTYPE=image/png:https://dehayf5mhw1h7.cloudfront.net/wp-content/uploads/sites/2128/2026/04/11070239/dylan-marlowe.png
END:VEVENT
BEGIN:VEVENT
DTSTART;VALUE=DATE:20260912
DTEND;VALUE=DATE:20260913
DTSTAMP:20260424T064521
CREATED:20260317T171659Z
LAST-MODIFIED:20260320T172006Z
UID:97723-1789171200-1789257599@www.crankthehankseattle.com
SUMMARY:Cody Johnson at the Tacoma Dome
DESCRIPTION:HANK Artist Cody Johnson visits the Northwest on Saturday\, September 12th! Tickets go on sale on March 27th at 10am.
URL:https://www.crankthehankseattle.com/event/cody-johnson-at-the-tacoma-dome/
LOCATION:Tacoma Dome\, 2727 East D Street\, Tacoma\, WA\, 98421\, United States
CATEGORIES:Concert Calendar
ATTACH;FMTTYPE=image/png:https://dehayf5mhw1h7.cloudfront.net/wp-content/uploads/sites/2128/2026/03/17101600/untitled-design.png
END:VEVENT
BEGIN:VEVENT
DTSTART;VALUE=DATE:20260912
DTEND;VALUE=DATE:20260913
DTSTAMP:20260424T064521
CREATED:20260411T140638Z
LAST-MODIFIED:20260411T140638Z
UID:98470-1789171200-1789257599@www.crankthehankseattle.com
SUMMARY:Chase Rice at the WA State Fair
DESCRIPTION:Head to the Washington State Fairgrounds in Puyallup for the “Dancin’ in the Dirt” concert series! \nChase Rice takes the stage September 12th
URL:https://www.crankthehankseattle.com/event/chase-rice-at-the-wa-state-fair/
LOCATION:Washington State Fair\, 110 9th Ave SW\, Puyallup\, WA\, 98371\, United States
CATEGORIES:Concert Calendar,Event,HANK FM Concert Calendar
ATTACH;FMTTYPE=image/png:https://dehayf5mhw1h7.cloudfront.net/wp-content/uploads/sites/2128/2026/04/11070620/chase-rice.png
END:VEVENT
END:VCALENDAR